BEGIN:VCALENDAR
VERSION:2.0
PRODID:-//Town of Jonesborough - ECPv6.10.1.1//NONSGML v1.0//EN
CALSCALE:GREGORIAN
METHOD:PUBLISH
X-ORIGINAL-URL:https://jonesborough.com
X-WR-CALDESC:Events for Town of Jonesborough
REFRESH-INTERVAL;VALUE=DURATION:PT1H
X-Robots-Tag:noindex
X-PUBLISHED-TTL:PT1H
BEGIN:VTIMEZONE
TZID:America/New_York
BEGIN:DAYLIGHT
TZOFFSETFROM:-0500
TZOFFSETTO:-0400
TZNAME:EDT
DTSTART:20250309T070000
END:DAYLIGHT
BEGIN:STANDARD
TZOFFSETFROM:-0400
TZOFFSETTO:-0500
TZNAME:EST
DTSTART:20251102T060000
END:STANDARD
END:VTIMEZONE
BEGIN:VEVENT
DTSTART;TZID=America/New_York:20250713T160000
DTEND;TZID=America/New_York:20250713T170000
DTSTAMP:20260419T141730
CREATED:20250430T111545Z
LAST-MODIFIED:20250713T141504Z
UID:43452-1752422400-1752426000@jonesborough.com
SUMMARY:Yoga in the Park
DESCRIPTION:
URL:https://jonesborough.com/event/yoga-in-the-park-69/
LOCATION:Jimmy Neil Smith Park\, 111 W College St\, Jonesborough\, TN\, United States
END:VEVENT
BEGIN:VEVENT
DTSTART;TZID=America/New_York:20250713T170000
DTEND;TZID=America/New_York:20250713T190000
DTSTAMP:20260419T141730
CREATED:20250508T011534Z
LAST-MODIFIED:20250713T050010Z
UID:43534-1752426000-1752433200@jonesborough.com
SUMMARY:Brews & Tunes
DESCRIPTION:
URL:https://jonesborough.com/event/brews-tunes-41/
END:VEVENT
BEGIN:VEVENT
DTSTART;TZID=America/New_York:20250715T190000
DTEND;TZID=America/New_York:20250715T200000
DTSTAMP:20260419T141730
CREATED:20250416T100106Z
LAST-MODIFIED:20250715T143021Z
UID:43294-1752606000-1752609600@jonesborough.com
SUMMARY:Jonesborough Storytelling Guild
DESCRIPTION:
URL:https://jonesborough.com/event/jonesborough-storytelling-guild-39/
END:VEVENT
BEGIN:VEVENT
DTSTART;TZID=America/New_York:20250718T190000
DTEND;TZID=America/New_York:20250718T210000
DTSTAMP:20260419T141730
CREATED:20250508T011552Z
LAST-MODIFIED:20250718T053013Z
UID:43535-1752865200-1752872400@jonesborough.com
SUMMARY:Music on the Square
DESCRIPTION:
URL:https://jonesborough.com/event/music-on-the-square-91/
END:VEVENT
BEGIN:VEVENT
DTSTART;TZID=America/New_York:20250719T093000
DTEND;TZID=America/New_York:20250719T150000
DTSTAMP:20260419T141730
CREATED:20250708T141546Z
LAST-MODIFIED:20250719T143010Z
UID:44061-1752917400-1752937200@jonesborough.com
SUMMARY:Doll Show & Sale
DESCRIPTION:
URL:https://jonesborough.com/event/doll-show-sale-2/
END:VEVENT
BEGIN:VEVENT
DTSTART;TZID=America/New_York:20250720T160000
DTEND;TZID=America/New_York:20250720T170000
DTSTAMP:20260419T141730
CREATED:20250430T111546Z
LAST-MODIFIED:20250720T143009Z
UID:43453-1753027200-1753030800@jonesborough.com
SUMMARY:Yoga in the Park
DESCRIPTION:
URL:https://jonesborough.com/event/yoga-in-the-park-70/
LOCATION:Jimmy Neil Smith Park\, 111 W College St\, Jonesborough\, TN\, United States
END:VEVENT
BEGIN:VEVENT
DTSTART;TZID=America/New_York:20250720T170000
DTEND;TZID=America/New_York:20250720T190000
DTSTAMP:20260419T141730
CREATED:20250508T011553Z
LAST-MODIFIED:20250720T053006Z
UID:43536-1753030800-1753038000@jonesborough.com
SUMMARY:Brews & Tunes
DESCRIPTION:
URL:https://jonesborough.com/event/brews-tunes-42/
END:VEVENT
BEGIN:VEVENT
DTSTART;TZID=America/New_York:20250722T190000
DTEND;TZID=America/New_York:20250722T200000
DTSTAMP:20260419T141730
CREATED:20250423T110025Z
LAST-MODIFIED:20250722T144503Z
UID:43361-1753210800-1753214400@jonesborough.com
SUMMARY:Jonesborough Storytelling Guild
DESCRIPTION:
URL:https://jonesborough.com/event/jonesborough-storytelling-guild-40/
END:VEVENT
BEGIN:VEVENT
DTSTART;TZID=America/New_York:20250725T190000
DTEND;TZID=America/New_York:20250725T210000
DTSTAMP:20260419T141730
CREATED:20250508T011554Z
LAST-MODIFIED:20250725T054504Z
UID:43537-1753470000-1753477200@jonesborough.com
SUMMARY:Music on the Square
DESCRIPTION:
URL:https://jonesborough.com/event/music-on-the-square-92/
END:VEVENT
BEGIN:VEVENT
DTSTART;TZID=America/New_York:20250727T160000
DTEND;TZID=America/New_York:20250727T170000
DTSTAMP:20260419T141730
CREATED:20250430T111546Z
LAST-MODIFIED:20250727T144505Z
UID:43454-1753632000-1753635600@jonesborough.com
SUMMARY:Yoga in the Park
DESCRIPTION:
URL:https://jonesborough.com/event/yoga-in-the-park-71/
LOCATION:Jimmy Neil Smith Park\, 111 W College St\, Jonesborough\, TN\, United States
END:VEVENT
BEGIN:VEVENT
DTSTART;TZID=America/New_York:20250727T170000
DTEND;TZID=America/New_York:20250727T190000
DTSTAMP:20260419T141730
CREATED:20250508T011555Z
LAST-MODIFIED:20250727T054514Z
UID:43538-1753635600-1753642800@jonesborough.com
SUMMARY:Brews & Tunes
DESCRIPTION:
URL:https://jonesborough.com/event/brews-tunes-43/
END:VEVENT
BEGIN:VEVENT
DTSTART;TZID=America/New_York:20250728T190000
DTEND;TZID=America/New_York:20250728T200000
DTSTAMP:20260419T141730
CREATED:20250702T051513Z
LAST-MODIFIED:20250728T060008Z
UID:44012-1753729200-1753732800@jonesborough.com
SUMMARY:StoryTown Radio Show: Kitchen Disasters & Culinary Fails
DESCRIPTION:This July 28th at 7PM\, StoryTown is stepping into the kitchen and jumping right back out with “Kitchen Disasters and Culinary Fails\,” a new show full of hilarious tales about when the recipe doesn’t go as planned. \n \nStoryTown performs in the format of a live\, old-time radio show complete with sound effects\, musical underscoring\, live skits\, and a great musical guest. Joining the Radio Show this month is Ryan Budds of Trivia with Budds. He’ll be giving the evening a gameshow atmosphere\, complete with prizes for correctly answered trivia questions. We’ve got stories about a transplant from Turkey’s first trip to an American grocery store\, tales of biscuits so hard they bounced\, and potatoes so overdone they turned into a source of entertainment for campers. The Radio Show is the perfect place to kick back and enjoy a summer evening. \n \nJoining the cast this month is storyteller Lynette “Lyn” Ford and the Jimmie D. Band. The Jimmie D. Band always get the audience up and dancing with their rock and blues mix. The performance takes place on July 28th at the McKinney Center at 7:00 pm. Tickets are $10 and available online at Jonesborough.com/tickets or by calling the Historic Visitors Center at 423-753-1010. \n \nThe Radio Show is also recorded for broadcast on local NPR station WETS 89.5 out of Johnson City\, which can be heard the last Wednesday of the month at 8PM. StoryTown is sponsored by the Tennessee Arts Commission\, Gary and Sandee Degner\, Trivia with Budds\, McLeod Organics\, the Wild Women of Jonesborough\, and Wolfe Development.
URL:https://jonesborough.com/event/storytown-radio-show-kitchen-disasters-culinary-fails/
LOCATION:McKinney Center at Booker T. Washington School\, 103 Franklin Ave\, Jonesborough\, TN\, United States
END:VEVENT
BEGIN:VEVENT
DTSTART;TZID=America/New_York:20250729T190000
DTEND;TZID=America/New_York:20250729T200000
DTSTAMP:20260419T141730
CREATED:20250430T111547Z
LAST-MODIFIED:20250729T150044Z
UID:43455-1753815600-1753819200@jonesborough.com
SUMMARY:Jonesborough Storytelling Guild
DESCRIPTION:
URL:https://jonesborough.com/event/jonesborough-storytelling-guild-41/
END:VEVENT
BEGIN:VEVENT
DTSTART;TZID=America/New_York:20250801T190000
DTEND;TZID=America/New_York:20250801T210000
DTSTAMP:20260419T141730
CREATED:20250508T011556Z
LAST-MODIFIED:20250801T063006Z
UID:43539-1754074800-1754082000@jonesborough.com
SUMMARY:Music on the Square
DESCRIPTION:
URL:https://jonesborough.com/event/music-on-the-square-93/
END:VEVENT
BEGIN:VEVENT
DTSTART;TZID=America/New_York:20250803T160000
DTEND;TZID=America/New_York:20250803T170000
DTSTAMP:20260419T141730
CREATED:20250505T111549Z
LAST-MODIFIED:20250803T151612Z
UID:43498-1754236800-1754240400@jonesborough.com
SUMMARY:Yoga in the Park
DESCRIPTION:
URL:https://jonesborough.com/event/yoga-in-the-park-72/
LOCATION:Jimmy Neil Smith Park\, 111 W College St\, Jonesborough\, TN\, United States
END:VEVENT
BEGIN:VEVENT
DTSTART;TZID=America/New_York:20250803T170000
DTEND;TZID=America/New_York:20250803T190000
DTSTAMP:20260419T141730
CREATED:20250508T011557Z
LAST-MODIFIED:20250803T063031Z
UID:43540-1754240400-1754247600@jonesborough.com
SUMMARY:Brews & Tunes
DESCRIPTION:
URL:https://jonesborough.com/event/brews-tunes-44/
END:VEVENT
BEGIN:VEVENT
DTSTART;TZID=America/New_York:20250805T190000
DTEND;TZID=America/New_York:20250805T200000
DTSTAMP:20260419T141730
CREATED:20250507T111555Z
LAST-MODIFIED:20250805T151521Z
UID:43513-1754420400-1754424000@jonesborough.com
SUMMARY:Jonesborough Storytelling Guild
DESCRIPTION:
URL:https://jonesborough.com/event/jonesborough-storytelling-guild-42/
END:VEVENT
BEGIN:VEVENT
DTSTART;TZID=America/New_York:20250808T190000
DTEND;TZID=America/New_York:20250808T210000
DTSTAMP:20260419T141730
CREATED:20250510T011601Z
LAST-MODIFIED:20250808T070126Z
UID:43555-1754679600-1754686800@jonesborough.com
SUMMARY:Music on the Square
DESCRIPTION:
URL:https://jonesborough.com/event/music-on-the-square-94/
END:VEVENT
BEGIN:VEVENT
DTSTART;TZID=America/New_York:20250809T150000
DTEND;TZID=America/New_York:20250809T200000
DTSTAMP:20260419T141730
CREATED:20250711T050006Z
LAST-MODIFIED:20250809T071504Z
UID:44102-1754751600-1754769600@jonesborough.com
SUMMARY:Wizardly World Of Jonesborough
DESCRIPTION:
URL:https://jonesborough.com/event/wizardly-world-of-jonesborough-2/
END:VEVENT
BEGIN:VEVENT
DTSTART;TZID=America/New_York:20250810T160000
DTEND;TZID=America/New_York:20250810T170000
DTSTAMP:20260419T141730
CREATED:20250512T114548Z
LAST-MODIFIED:20250810T161814Z
UID:43576-1754841600-1754845200@jonesborough.com
SUMMARY:Yoga in the Park
DESCRIPTION:
URL:https://jonesborough.com/event/yoga-in-the-park-73/
LOCATION:Jimmy Neil Smith Park\, 111 W College St\, Jonesborough\, TN\, United States
END:VEVENT
BEGIN:VEVENT
DTSTART;TZID=America/New_York:20250810T170000
DTEND;TZID=America/New_York:20250810T190000
DTSTAMP:20260419T141730
CREATED:20250512T011613Z
LAST-MODIFIED:20250810T073105Z
UID:43570-1754845200-1754852400@jonesborough.com
SUMMARY:Brews & Tunes
DESCRIPTION:
URL:https://jonesborough.com/event/brews-tunes-45/
END:VEVENT
BEGIN:VEVENT
DTSTART;TZID=America/New_York:20250812T190000
DTEND;TZID=America/New_York:20250812T200000
DTSTAMP:20260419T141730
CREATED:20250514T114550Z
LAST-MODIFIED:20250812T163010Z
UID:43592-1755025200-1755028800@jonesborough.com
SUMMARY:Jonesborough Storytelling Guild
DESCRIPTION:
URL:https://jonesborough.com/event/jonesborough-storytelling-guild-43/
END:VEVENT
BEGIN:VEVENT
DTSTART;TZID=America/New_York:20250815T190000
DTEND;TZID=America/New_York:20250815T210000
DTSTAMP:20260419T141730
CREATED:20250517T014720Z
LAST-MODIFIED:20250815T073009Z
UID:43611-1755284400-1755291600@jonesborough.com
SUMMARY:Music on the Square
DESCRIPTION:
URL:https://jonesborough.com/event/music-on-the-square-95/
END:VEVENT
BEGIN:VEVENT
DTSTART;TZID=America/New_York:20250817T160000
DTEND;TZID=America/New_York:20250817T170000
DTSTAMP:20260419T141730
CREATED:20250519T114529Z
LAST-MODIFIED:20250817T171659Z
UID:43632-1755446400-1755450000@jonesborough.com
SUMMARY:Yoga in the Park
DESCRIPTION:
URL:https://jonesborough.com/event/yoga-in-the-park-74/
LOCATION:Jimmy Neil Smith Park\, 111 W College St\, Jonesborough\, TN\, United States
END:VEVENT
BEGIN:VEVENT
DTSTART;TZID=America/New_York:20250817T170000
DTEND;TZID=America/New_York:20250817T190000
DTSTAMP:20260419T141730
CREATED:20250519T014548Z
LAST-MODIFIED:20250817T080012Z
UID:43626-1755450000-1755457200@jonesborough.com
SUMMARY:Brews & Tunes
DESCRIPTION:
URL:https://jonesborough.com/event/brews-tunes-46/
END:VEVENT
BEGIN:VEVENT
DTSTART;TZID=America/New_York:20250819T190000
DTEND;TZID=America/New_York:20250819T200000
DTSTAMP:20260419T141730
CREATED:20250521T120116Z
LAST-MODIFIED:20250819T171529Z
UID:43669-1755630000-1755633600@jonesborough.com
SUMMARY:Jonesborough Storytelling Guild
DESCRIPTION:
URL:https://jonesborough.com/event/jonesborough-storytelling-guild-44/
END:VEVENT
BEGIN:VEVENT
DTSTART;TZID=America/New_York:20250822T190000
DTEND;TZID=America/New_York:20250822T210000
DTSTAMP:20260419T141730
CREATED:20250524T020102Z
LAST-MODIFIED:20250822T080046Z
UID:43689-1755889200-1755896400@jonesborough.com
SUMMARY:Music on the Square
DESCRIPTION:
URL:https://jonesborough.com/event/music-on-the-square-96/
END:VEVENT
BEGIN:VEVENT
DTSTART;TZID=America/New_York:20250824T160000
DTEND;TZID=America/New_York:20250824T170000
DTSTAMP:20260419T141730
CREATED:20250526T121609Z
LAST-MODIFIED:20250824T181509Z
UID:43710-1756051200-1756054800@jonesborough.com
SUMMARY:Yoga in the Park
DESCRIPTION:
URL:https://jonesborough.com/event/yoga-in-the-park-75/
LOCATION:Jimmy Neil Smith Park\, 111 W College St\, Jonesborough\, TN\, United States
END:VEVENT
BEGIN:VEVENT
DTSTART;TZID=America/New_York:20250824T170000
DTEND;TZID=America/New_York:20250824T190000
DTSTAMP:20260419T141730
CREATED:20250526T020049Z
LAST-MODIFIED:20250824T080053Z
UID:43704-1756054800-1756062000@jonesborough.com
SUMMARY:Brews & Tunes
DESCRIPTION:
URL:https://jonesborough.com/event/brews-tunes-47/
END:VEVENT
BEGIN:VEVENT
DTSTART;TZID=America/New_York:20250825T190000
DTEND;TZID=America/New_York:20250825T200000
DTSTAMP:20260419T141730
CREATED:20250816T070005Z
LAST-MODIFIED:20250825T073758Z
UID:44397-1756148400-1756152000@jonesborough.com
SUMMARY:StoryTown Radio Show: The Old College Try: Higher Education Stories
DESCRIPTION:Celebrate the new semester by coming out to the latest edition of the StoryTown Radio Show on Monday\, August 25 at 7:00 pm at the McKinney Center.StoryTown performs in the format of a live\, old-time radio show complete with sound effects\, musical underscoring\, live skits\, and a great musical guest. This month’s show is all about the “Old College Try: Higher Education Stories.” From dorm life to late night study sessions\, and Greek tragedy readings that lead to the cops being called\, StoryTown has a bunch of new stories to share. Joining the cast this month are the Flying J’s. This local band blends classic country tunes with a lot of humor. We’ll also have storyteller Andy Offutt Irwin with us. Tickets are only $10 and available online at Jonesborough.com/tickets or by calling the Historic Jonesborough Visitors Center at 423-753-1010. This episode is sponsored by Mauk’s of Jonesborough.The Radio Show is recorded for broadcast on local NPR station WETS 89.5 out of Johnson City\, which can be heard the last Wednesday of the month at 8PM. StoryTown is sponsored by the Tennessee Arts Commission\, Gary and Sandee Degner\, Trivia with Budds\, McLeod Organics\, the Wild Women of Jonesborough\, and Wolfe Development.
URL:https://jonesborough.com/event/storytown-radio-show-the-old-college-try-higher-education-stories/
LOCATION:McKinney Center at Booker T. Washington School\, 103 Franklin Ave\, Jonesborough\, TN\, United States
END:VEVENT
END:VCALENDAR