BEGIN:VCALENDAR
VERSION:2.0
PRODID:-//Town of Jonesborough - ECPv6.10.1.1//NONSGML v1.0//EN
CALSCALE:GREGORIAN
METHOD:PUBLISH
X-WR-CALNAME:Town of Jonesborough
X-ORIGINAL-URL:https://jonesborough.com
X-WR-CALDESC:Events for Town of Jonesborough
REFRESH-INTERVAL;VALUE=DURATION:PT1H
X-Robots-Tag:noindex
X-PUBLISHED-TTL:PT1H
BEGIN:VTIMEZONE
TZID:America/New_York
BEGIN:DAYLIGHT
TZOFFSETFROM:-0500
TZOFFSETTO:-0400
TZNAME:EDT
DTSTART:20260308T070000
END:DAYLIGHT
BEGIN:STANDARD
TZOFFSETFROM:-0400
TZOFFSETTO:-0500
TZNAME:EST
DTSTART:20261101T060000
END:STANDARD
END:VTIMEZONE
BEGIN:VEVENT
DTSTART;TZID=America/New_York:20260424T190000
DTEND;TZID=America/New_York:20260424T210000
DTSTAMP:20260424T232541
CREATED:20260310T013038Z
LAST-MODIFIED:20260424T084505Z
UID:46291-1777057200-1777064400@jonesborough.com
SUMMARY:The Public Enemy at The Jackson Theatre
DESCRIPTION:April 24 at 7pm The Public Enemy (1931) \nSpeakeasy Cinema \nPay What You Can \nSpeakeasy Cinema Series – Doors open at 6 pm\, movie at 7pm. The night includes Jazz Music\, Specialty Craft Cocktails (and Mocktails) for purchase along with our full selection of beverages at the concession stand. Complimentary light bites will we available.   \nClassic Gangster Film! One ruthless hoodlum rises up through the ranks of the criminal underworld\, from the bottom tier to the very top\, even as the threat of an explosive gang war looms in the distance. \nStarring: James Cagney\, Jean Harlow\, Edward Woods\, JoanBlondell\, Beryl Mercer \nNot Rated \nRunning Time 85 minutes
URL:https://jonesborough.com/event/the-public-enemy-at-the-jackson-theatre/
LOCATION:Jackson Theatre\, 121 W Main St\, Jonesborough\, TN\, United States
END:VEVENT
BEGIN:VEVENT
DTSTART;TZID=America/New_York:20260423T190000
DTEND;TZID=America/New_York:20260423T210000
DTSTAMP:20260424T232541
CREATED:20260310T013038Z
LAST-MODIFIED:20260423T084503Z
UID:46290-1776970800-1776978000@jonesborough.com
SUMMARY:The Quick and The Dead at The Jackson Theatre
DESCRIPTION:April 23 at 7pm The Quick and The Dead (1995) \nWestern Series \nA mysterious female gunslinger arrives in the frontierhamlet of Redemption for a contest pitting quick-draw artists against eachother. The event is the brainchild of Redemption’s evil\, corrupt mayor\, Herod\,a criminal who has taken over the town and charges a 50% tax on localbusinesses. Directed by Sam Raimi. \nStarring: SharonStone\, Gene Hackman\, Russell Crowe\, Leonardo DiCaprio\, Tobin Bell \nRated R \nRunning Time 108 minutes
URL:https://jonesborough.com/event/the-quick-and-the-dead-at-the-jackson-theatre/
LOCATION:Jackson Theatre\, 121 W Main St\, Jonesborough\, TN\, United States
END:VEVENT
BEGIN:VEVENT
DTSTART;TZID=America/New_York:20260423T130000
DTEND;TZID=America/New_York:20260423T143000
DTSTAMP:20260424T232541
CREATED:20260418T054511Z
LAST-MODIFIED:20260423T061505Z
UID:46674-1776949200-1776954600@jonesborough.com
SUMMARY:Tea Party & Etiquette Class - Historic Eureka Inn
DESCRIPTION:We’re thrilled to introduce a brand-new weekly event! Thursday afternoon tea parties and etiquette classes at 1pm or upon request! First class next week\, Thursday April 23rd so sign up now!Join us in our 229 year old home to experience the history of the Inn\, enjoy tea service\, and learn about simple tea etiquette. \nBirthday parties\, celebrations\, a special time for mothers/daughters\, or just for fun! This is designed to create magical memories for all! \nMinimum class size of 6 guests\, maximum 14.Add on a keepsake corsage and fan for your memories of your special event. Perfect as a gift!$25 per person (Keepsake corsage and fan for only $18).  \nGet your tickets online at www.thehistoriceurekainn.com orhttps://tinyurl.com/v8as9xsv \nFuture Advanced etiquette classes:• Dining Etiquette• Proper Introductions & Handshakes• Interview Etiquette
URL:https://jonesborough.com/event/tea-party-etiquette-class-historic-eureka-inn/
LOCATION:Historic Eureka Inn & Event Center\, 127 W Main St\, Jonesborough\, TN\, United States
END:VEVENT
BEGIN:VEVENT
DTSTART;TZID=America/New_York:20260422T190000
DTEND;TZID=America/New_York:20260422T210000
DTSTAMP:20260424T232541
CREATED:20260310T013037Z
LAST-MODIFIED:20260422T084502Z
UID:46289-1776884400-1776891600@jonesborough.com
SUMMARY:The Jerk at The Jackson Theatre
DESCRIPTION:The Jerk (1979) \nWacky Wednesday \nA less than brilliant man who thinks he’s black after beingraised by a black family finds himself in a whole new world when he learns he’sactually white. After leaving home his adventures include inventing a bestseller and joining a travelling carnival.  A Steve Martin classic! \nRated R \nRunning Time 94 minutes
URL:https://jonesborough.com/event/the-jerk-at-the-jackson-theatre/
LOCATION:Jackson Theatre\, 121 W Main St\, Jonesborough\, TN\, United States
END:VEVENT
BEGIN:VEVENT
DTSTART;TZID=America/New_York:20260421T190000
DTEND;TZID=America/New_York:20260421T200000
DTSTAMP:20260424T232541
CREATED:20260121T014526Z
LAST-MODIFIED:20260421T061505Z
UID:45824-1776798000-1776801600@jonesborough.com
SUMMARY:Jonesborough Storytelling Guild
DESCRIPTION:
URL:https://jonesborough.com/event/jonesborough-storytelling-guild-79/
LOCATION:TN
END:VEVENT
BEGIN:VEVENT
DTSTART;TZID=America/New_York:20260419T190000
DTEND;TZID=America/New_York:20260419T210000
DTSTAMP:20260424T232541
CREATED:20260310T013037Z
LAST-MODIFIED:20260419T084504Z
UID:46288-1776625200-1776632400@jonesborough.com
SUMMARY:2026 Johnson City Jazz Festival at the Jackson Theatre
DESCRIPTION:Tri-Cities Jazz Orchestra under the direction of Mr. Eddie Dalton \nThe Tri-Cities Jazz Orchestra is a 17-piece big band comprised of musicians from Northeast Tennessee and Southwest Virginia. The band specializes in playing music from the Big Band Era to the present day\, including music from such jazz greats: Glenn Miller\, Count Basie\, Duke Ellington\, Buddy Rich\, Maynard Ferguson\, Stan Kenton and more. With over 300 pieces of music in their library The group also plays music from the bands TOTO\, Earth Wind and Fire and Bruno Mars just to name a few. Under the direction of Mr Eddie Dalton\, the group has performed at various venues and events throughout the region including NPR live radio broadcasts\, music festivals\, theaters/concerts\, restaurants and weddings. \nThe group has other configurations as well including the very popular and in demand “TJO Seven”. A smaller version of the big band including Trumpet\, Trombone\, Alto Sax\, Tenor Sax\, Piano\, Bass and Drums. This group plays many of the same selections as the big band but also includes the music of Chicago and Blood Sweat and Tears.  \nThe Tri-Cities Jazz Orchestra (in it’s many configurations) is available for hire. Contact Eddie Dalton at (423) 676-7721 / tri-citiesjazzorchestra@comcast.net or any band members for details. You can also visit the group’s Facebook Page.
URL:https://jonesborough.com/event/2026-johnson-city-jazz-festival-at-the-jackson-theatre/
LOCATION:Jackson Theatre\, 121 W Main St\, Jonesborough\, TN\, United States
END:VEVENT
BEGIN:VEVENT
DTSTART;TZID=America/New_York:20260418T090000
DTEND;TZID=America/New_York:20260418T120000
DTSTAMP:20260424T232541
CREATED:20260118T121514Z
LAST-MODIFIED:20260417T171506Z
UID:45801-1776502800-1776513600@jonesborough.com
SUMMARY:Winter Farmers Market
DESCRIPTION:
URL:https://jonesborough.com/event/winter-farmers-market-11/
LOCATION:TN
END:VEVENT
BEGIN:VEVENT
DTSTART;TZID=America/New_York:20260417T190000
DTEND;TZID=America/New_York:20260417T210000
DTSTAMP:20260424T232541
CREATED:20260128T221542Z
LAST-MODIFIED:20260417T083018Z
UID:45899-1776452400-1776459600@jonesborough.com
SUMMARY:First Star of Country Music: Vernon Dalhart presented by the International Storytelling Center and the Jackson Theatre
DESCRIPTION:Vernon Dalhart: First Country Music Star Comes to The Jackson Theatre April 17 \nThe Jackson Theatre will present Vernon Dalhart: First Country Music Star on Friday\, April 17 at 7:00pm\, in partnership with the International Storytelling Center. This special evening of words and music celebrates one of the most influential recording artists of the 1920s and 1930s. \nVernon Dalhart was the first artist to record a million-selling country hit with the two-sided 78 RPM disc featuring “The Wreck of the Old ’97” and “The Prisoner’s Song.” Both recordings are enshrined in the Grammy Hall of Fame\, and Dalhart was later inducted into both the Country Music Hall of Fame and the Songwriters Hall of Fame. A prolific artist by any standard\, he made more than 4\,000 recordings between 1916 and 1939. \nDespite his massive impact\, Dalhart’s legacy has often been overlooked. Many legendary performers\, including Dolly Parton\, Marty Robbins\, Johnny Cash\, Willie Nelson\, Doc Watson\, Bill Monroe\, and Mac Wiseman\, have covered songs first recorded by Dalhart\, helping to carry his influence through generations of American music. \nDrawing on five years of research\, music historian Dr. Ted Olson will share the story of Dalhart’s diverse career and explore why his contributions have faded from the spotlight. Jack Hinshelwood\, a multi-instrumentalist and singer\, will provide the live soundtrack\, performing faithful renditions of classics such as “Wreck of the Old ’97\,” “The Prisoner’s Song\,” “Home on the Range\,” “Jesse James\,” “The Big Rock Candy Mountains\,” “My Blue Ridge Mountain Home\,” and more songs that helped shape early country music. \nThis event is part of the Jackson Theatre’s ongoing collaboration with the International Storytelling Center\, highlighting shared programming rooted in storytelling and music. \nTickets are $15 in advance and $20 day of show. Tickets and more information are available at thejacksontheatre.com.
URL:https://jonesborough.com/event/first-star-of-country-music-vernon-dalhart-presented-by-the-international-storytelling-center-and-the-jackson-theatre/
LOCATION:Jackson Theatre\, 121 W Main St\, Jonesborough\, TN\, United States
END:VEVENT
BEGIN:VEVENT
DTSTART;TZID=America/New_York:20260416T190000
DTEND;TZID=America/New_York:20260416T210000
DTSTAMP:20260424T232541
CREATED:20260328T070024Z
LAST-MODIFIED:20260416T081503Z
UID:46470-1776366000-1776373200@jonesborough.com
SUMMARY:Love in Storytown at The Jackson Theatre
DESCRIPTION:Love in Storytown (2026) \nPay What You Can \nTheatrical Premiere. This movie was filmed in Jonesborough in 2023. \nWhen a single mother decides to leave the military and moves to a town known for storytelling for a settled life with her son\, she meets a childhood friend who is the worst choice to fall in love with: a wandering storyteller. \nNot Rated \nRunning Time 89 minutes
URL:https://jonesborough.com/event/love-in-storytown-at-the-jackson-theatre-2/
LOCATION:Jackson Theatre\, 121 W Main St\, Jonesborough\, TN\, United States
END:VEVENT
BEGIN:VEVENT
DTSTART;TZID=America/New_York:20260414T193000
DTEND;TZID=America/New_York:20260414T210000
DTSTAMP:20260424T232541
CREATED:20260314T014548Z
LAST-MODIFIED:20260414T081503Z
UID:46331-1776195000-1776200400@jonesborough.com
SUMMARY:Donald Davis Storytelling Concert at the Jackson Theatre
DESCRIPTION:Donald Davis\, one of America’s favorite master storytellers\, is coming to the Jackson Theatre on April 13 and 14 at 7:30 p.m. The two-night concert will feature Davis telling different stories each evening. \n  \nEnjoy two nights of stories from Donald Davis with general admission each evening being $16. A special group rate for 15 or more people is available for $13 per person. \n  \nDavis was born in a Southern Appalachian Mountain world that was rich in stories. “I didn’t learn stories\, I just absorbed them\,” Davis says as he recounts tales learned from a family of traditional storytellers who lived on the same Western North Carolina land since 1781. \n  \nDavis’ resume boasts numerous experiences including Davidson College\, Duke University Divinity School\, a retired Methodist minister and former chairperson of the board of Directors for the National Storytelling Association. He is a favorite at the National Storytelling Festival and has also served as a featured teller at the Smithsonian Institute\, the World’s Fair as well as festivals and concerts throughout the United States and the world. \n  \nFor Donald Davis\, storytelling is a way of giving and living life. He invites each listener to come along\, pull deep inside for one’s own stories and personally share the common experiences that celebrate the creative spirit. For Donald Davis\, storytelling “is not what I do for a living\, but it is how I do all that I do while I am living.”  \n  \n \nFor tickets or more information\, call 423.788.4909 or visit thejacksontheatre.com for tickets.
URL:https://jonesborough.com/event/donald-davis-storytelling-concert-at-the-jackson-theatre-2/
LOCATION:Jackson Theatre\, 121 W Main St\, Jonesborough\, TN\, United States
END:VEVENT
BEGIN:VEVENT
DTSTART;TZID=America/New_York:20260414T190000
DTEND;TZID=America/New_York:20260414T200000
DTSTAMP:20260424T232541
CREATED:20260114T011534Z
LAST-MODIFIED:20260414T054504Z
UID:45759-1776193200-1776196800@jonesborough.com
SUMMARY:Jonesborough Storytelling Guild
DESCRIPTION:
URL:https://jonesborough.com/event/jonesborough-storytelling-guild-78/
LOCATION:TN
END:VEVENT
BEGIN:VEVENT
DTSTART;TZID=America/New_York:20260413T193000
DTEND;TZID=America/New_York:20260413T210000
DTSTAMP:20260424T232541
CREATED:20260314T014548Z
LAST-MODIFIED:20260413T081503Z
UID:46330-1776108600-1776114000@jonesborough.com
SUMMARY:Donald Davis Storytelling Concert at the Jackson Theatre
DESCRIPTION:Donald Davis\, one of America’s favorite master storytellers\, is coming to the Jackson Theatre on April 13 and 14 at 7:30 p.m. The two-night concert will feature Davis telling different stories each evening. \n  \nEnjoy two nights of stories from Donald Davis with general admission each evening being $16. A special group rate for 15 or more people is available for $13 per person. \n  \nDavis was born in a Southern Appalachian Mountain world that was rich in stories. “I didn’t learn stories\, I just absorbed them\,” Davis says as he recounts tales learned from a family of traditional storytellers who lived on the same Western North Carolina land since 1781. \n  \nDavis’ resume boasts numerous experiences including Davidson College\, Duke University Divinity School\, a retired Methodist minister and former chairperson of the board of Directors for the National Storytelling Association. He is a favorite at the National Storytelling Festival and has also served as a featured teller at the Smithsonian Institute\, the World’s Fair as well as festivals and concerts throughout the United States and the world. \n  \nFor Donald Davis\, storytelling is a way of giving and living life. He invites each listener to come along\, pull deep inside for one’s own stories and personally share the common experiences that celebrate the creative spirit. For Donald Davis\, storytelling “is not what I do for a living\, but it is how I do all that I do while I am living.”  \n  \n \nFor tickets or more information\, call 423.788.4909 or visit thejacksontheatre.com for tickets.
URL:https://jonesborough.com/event/donald-davis-storytelling-concert-at-the-jackson-theatre/
LOCATION:Jackson Theatre\, 121 W Main St\, Jonesborough\, TN\, United States
END:VEVENT
BEGIN:VEVENT
DTSTART;TZID=America/New_York:20260412T180000
DTEND;TZID=America/New_York:20260412T200000
DTSTAMP:20260424T232541
CREATED:20260318T020406Z
LAST-MODIFIED:20260412T081504Z
UID:46366-1776016800-1776024000@jonesborough.com
SUMMARY:Love in Storytown at The Jackson Theatre
DESCRIPTION:Love in Storytown (2026) \nPay What You Can \nTheatrical Premiere. This movie was filmed in Jonesborough in 2023. \nWhen a single mother decides to leave the military and moves to a town known for storytelling for a settled life with her son\, she meets a childhood friend who is the worst choice to fall in love with: a wandering storyteller. \nNot Rated \nRunning Time 89 minutes
URL:https://jonesborough.com/event/love-in-storytown-at-the-jackson-theatre/
LOCATION:Jackson Theatre\, 121 W Main St\, Jonesborough\, TN\, United States
END:VEVENT
BEGIN:VEVENT
DTSTART;TZID=America/New_York:20260412T150000
DTEND;TZID=America/New_York:20260412T170000
DTSTAMP:20260424T232541
CREATED:20251216T161049Z
LAST-MODIFIED:20260412T081503Z
UID:45471-1776006000-1776013200@jonesborough.com
SUMMARY:The NeverEnding Story at The Jackson Theatre
DESCRIPTION:The NeverEnding Story (1984)  \nFamily Series \n An unhappy young boy discovers a book about a mystical land.When he becomes engrossed in the story of this land\, which is about to bedestroyed by the evil force of Nothingness\, he finds himself entering thisworld\, where he helps to save it. \nRated PG \nRunning Time 94 minutes 
URL:https://jonesborough.com/event/the-neverending-story-at-the-jackson-theatre/
LOCATION:Jackson Theatre\, 121 W Main St\, Jonesborough\, TN\, United States
END:VEVENT
BEGIN:VEVENT
DTSTART;TZID=America/New_York:20260410T190000
DTEND;TZID=America/New_York:20260410T213000
DTSTAMP:20260424T232541
CREATED:20260310T013026Z
LAST-MODIFIED:20260410T081507Z
UID:46287-1775847600-1775856600@jonesborough.com
SUMMARY:Flags of Our Fathers at The Jackson Theatre
DESCRIPTION:April 10 at 7pm Flags of Our Fathers (2006) \nAmerica 250: 1776 – 2026 \nAdaptation of the non-fiction World War II story of thesoldiers who raised the iconic flag over Iwo Jima\, three of whom were shippedhome to help raise money for the war effort\, having to endure survivor’s guiltin the process. Directed by Clint Eastwood. \nRated R \nRunning Time 132 minutes
URL:https://jonesborough.com/event/flags-of-our-fathers-at-the-jackson-theatre/
LOCATION:Jackson Theatre\, 121 W Main St\, Jonesborough\, TN\, United States
END:VEVENT
BEGIN:VEVENT
DTSTART;TZID=America/New_York:20260409T180000
DTEND;TZID=America/New_York:20260409T200000
DTSTAMP:20260424T232541
CREATED:20260313T031506Z
LAST-MODIFIED:20260409T050018Z
UID:46322-1775757600-1775764800@jonesborough.com
SUMMARY:Paint in the Park -  Blue Ridge Mountains
DESCRIPTION:April “Blue Ridge Mountains” A monthly series for all ages to paint with Jonesborough Parks & Recreation and the Jonesborough Senior Center. Local artist Tania Dirks guides you through a fun and creative paint evening! \nJoin us for a relaxing and creative outdoor painting experience with local artist Tania Dirks our first paint night we will paint the Blue Ridge Mountains on an 11×14” canvas\, all supplies included. Dress to be outside and must preregister with Square Link. \nDate: Thursday\, April 9\, 2026Time: 6-8 pm Cost: $35 per person\, must preregister with the Square linkWhere: Lincoln Park 307 E Main St\, Jonesborough\, TN 37659Under the pavilion by the pickleball court\, unless the weather is severe\, we can use the senior center; we will announce this on social media.https://square.link/u/GnQDZYBp
URL:https://jonesborough.com/event/paint-in-the-park-blue-ridge-mountains/
LOCATION:Lincoln Park\, 307 E Main St\, Jonesborough\, TN\, United States
END:VEVENT
BEGIN:VEVENT
DTSTART;TZID=America/New_York:20260408T190000
DTEND;TZID=America/New_York:20260408T210000
DTSTAMP:20260424T232541
CREATED:20260310T013026Z
LAST-MODIFIED:20260408T080013Z
UID:46286-1775674800-1775682000@jonesborough.com
SUMMARY:Clerks at The Jackson Theatre
DESCRIPTION:Clerks (1994) \nWacky Wednesday \nA convenience-store worker\, assigned to manage the QuickStop market on his day off\, tries his best at customer service. Meanwhile\, hisbuddy working at video store looks on all of his customers with disdain. Directedby Kevin Smith. \nRated R \nRunning Time 102 minutes
URL:https://jonesborough.com/event/clerks-at-the-jackson-theatre/
LOCATION:Jackson Theatre\, 121 W Main St\, Jonesborough\, TN\, United States
END:VEVENT
BEGIN:VEVENT
DTSTART;TZID=America/New_York:20260407T190000
DTEND;TZID=America/New_York:20260407T200000
DTSTAMP:20260424T232541
CREATED:20260107T010025Z
LAST-MODIFIED:20260407T050007Z
UID:45660-1775588400-1775592000@jonesborough.com
SUMMARY:Jonesborough Storytelling Guild
DESCRIPTION:
URL:https://jonesborough.com/event/jonesborough-storytelling-guild-77/
LOCATION:TN
END:VEVENT
BEGIN:VEVENT
DTSTART;TZID=America/New_York:20260404T190000
DTEND;TZID=America/New_York:20260404T210000
DTSTAMP:20260424T232541
CREATED:20260310T013025Z
LAST-MODIFIED:20260404T073145Z
UID:46285-1775329200-1775336400@jonesborough.com
SUMMARY:O Brother\, Where Art Thou? at The Jackson Theatre
DESCRIPTION:O Brother\, Where Art Thou? (2000) \nQuirky Coen Brothers effort follows Depression-era convictswho escape a Mississippi chain gang and embark on an odyssey to find a hiddentreasure. \nStarring: George Clooney\, John Turturro\, Tim Blake Nelson\,John Goodman\, Holly Hunter \nRated PG-13 \nRunning Time 106 minutes
URL:https://jonesborough.com/event/o-brother-where-art-thou-at-the-jackson-theatre/
LOCATION:Jackson Theatre\, 121 W Main St\, Jonesborough\, TN\, United States
END:VEVENT
BEGIN:VEVENT
DTSTART;TZID=America/New_York:20260404T174500
DTEND;TZID=America/New_York:20260404T220000
DTSTAMP:20260424T232541
CREATED:20260324T043011Z
LAST-MODIFIED:20260404T050210Z
UID:46423-1775324700-1775340000@jonesborough.com
SUMMARY:Jonesborough Community Dance Social
DESCRIPTION:
URL:https://jonesborough.com/event/jonesborough-community-dance-social-2/
LOCATION:Historic Jonesborough Visitors Center\, 117 Boone St\, Jonesborough\, TN\, United States
END:VEVENT
BEGIN:VEVENT
DTSTART;TZID=America/New_York:20260404T150000
DTEND;TZID=America/New_York:20260404T170000
DTSTAMP:20260424T232541
CREATED:20251216T161048Z
LAST-MODIFIED:20260404T073145Z
UID:45469-1775314800-1775322000@jonesborough.com
SUMMARY:How to Train Your Dragon at The Jackson Theatre
DESCRIPTION:How to Train Your Dragon (2025)  \nFamily Series \n On the rugged isle of Berk\, where Vikings and dragons havebeen bitter enemies for generations\, Hiccup stands apart. The inventive yetoverlooked son of Chief Stoick the Vast Hiccup defies centuries of traditionwhen he befriends Toothless\, a feared Night Fury dragon. Their unlikely bondreveals the true nature of dragons\, challenging the very foundations of Vikingsociety. \nRated PG \nRunning Time 125 minutes 
URL:https://jonesborough.com/event/how-to-train-your-dragon-at-the-jackson-theatre/
LOCATION:Jackson Theatre\, 121 W Main St\, Jonesborough\, TN\, United States
END:VEVENT
BEGIN:VEVENT
DTSTART;TZID=America/New_York:20260401T190000
DTEND;TZID=America/New_York:20260401T210000
DTSTAMP:20260424T232541
CREATED:20260310T013025Z
LAST-MODIFIED:20260401T070124Z
UID:46284-1775070000-1775077200@jonesborough.com
SUMMARY:April Fool’s Day at The Jackson Theatre
DESCRIPTION:April Fool’s Day (1986) \nHorror Series \nCollege students are invited to the remote island estate oftheir rich schoolmate\, Muffy\, for a weekend of fun. Muffy sets up practicaljokes for her visitors\, and it’s all fun and games until the co-eds startdisappearing one by one. \nRated R \nRunning Time 88 minutes
URL:https://jonesborough.com/event/april-fools-day-at-the-jackson-theatre/
LOCATION:Jackson Theatre\, 121 W Main St\, Jonesborough\, TN\, United States
END:VEVENT
BEGIN:VEVENT
DTSTART;TZID=America/New_York:20260331T190000
DTEND;TZID=America/New_York:20260331T200000
DTSTAMP:20260424T232541
CREATED:20251231T001553Z
LAST-MODIFIED:20260331T050025Z
UID:45599-1774983600-1774987200@jonesborough.com
SUMMARY:Jonesborough Storytelling Guild
DESCRIPTION:
URL:https://jonesborough.com/event/jonesborough-storytelling-guild-76/
LOCATION:TN
END:VEVENT
BEGIN:VEVENT
DTSTART;TZID=America/New_York:20260329T150000
DTEND;TZID=America/New_York:20260329T173000
DTSTAMP:20260424T232541
CREATED:20260203T223134Z
LAST-MODIFIED:20260329T070037Z
UID:45968-1774796400-1774805400@jonesborough.com
SUMMARY:Braveheart at The Jackson Theatre
DESCRIPTION:Braveheart (1995)  \n90’s classic   \nA fictionalized portrait of 13th-century Scottish rebel William Wallace\, who led insurgents against oppressive English rule.  \nRated R  \n \nRunning Time 177 minutes 
URL:https://jonesborough.com/event/braveheart-at-the-jackson-theatre/
LOCATION:Jackson Theatre\, 121 W Main St\, Jonesborough\, TN\, United States
END:VEVENT
BEGIN:VEVENT
DTSTART;TZID=America/New_York:20260328T190000
DTEND;TZID=America/New_York:20260328T210000
DTSTAMP:20260424T232541
CREATED:20260203T223133Z
LAST-MODIFIED:20260328T070010Z
UID:45967-1774724400-1774731600@jonesborough.com
SUMMARY:The Chronicles of Narnia: The Lion\, the Witch and the Wardrobe  at The Jackson Theatre (Sponsored by Christ Church of Jonesborough)
DESCRIPTION:The Chronicles of Narnia: The Lion\, the Witch and the Wardrobe (2005)  \n \n Family Series  \n \nFree Movie – Sponsored by Christ Church of Jonesborough   \n \nEnchanting version of C.S. Lewis’s fantasy novels about four British children who enter a magical world\, where they befriend wondrous creatures and battle a witch.  \n \nRated PG  \n \nRunning Time 143 minutes 
URL:https://jonesborough.com/event/the-chronicles-of-narnia-the-lion-the-witch-and-the-wardrobe-at-the-jackson-theatre-sponsored-by-christ-church-of-jonesborough/
LOCATION:Jackson Theatre\, 121 W Main St\, Jonesborough\, TN\, United States
END:VEVENT
BEGIN:VEVENT
DTSTART;TZID=America/New_York:20260328T150000
DTEND;TZID=America/New_York:20260328T170000
DTSTAMP:20260424T232541
CREATED:20260203T223133Z
LAST-MODIFIED:20260328T070010Z
UID:45966-1774710000-1774717200@jonesborough.com
SUMMARY:The Prince of Egypt at The Jackson Theatre (Sponsored by Christ Church of Jonesborough)
DESCRIPTION:The Prince of Egypt (1998)  \n \nFamily Series  \n \nFree Movie – Sponsored by Christ Church of Jonesborough   \n \nThe story of Moses and the Ten Commandments is retold\, following the prophet from his adoption by the Pharaoh to his role in leading the Hebrews out of Egypt.  \n \nRated PG  \n \nRunning Time 97 minutes 
URL:https://jonesborough.com/event/the-prince-of-egypt-at-the-jackson-theatre-sponsored-by-christ-church-of-jonesborough/
LOCATION:Jackson Theatre\, 121 W Main St\, Jonesborough\, TN\, United States
END:VEVENT
BEGIN:VEVENT
DTSTART;TZID=America/New_York:20260328T130000
DTEND;TZID=America/New_York:20260328T140000
DTSTAMP:20260424T232541
CREATED:20260325T021507Z
LAST-MODIFIED:20260328T070010Z
UID:46431-1774702800-1774706400@jonesborough.com
SUMMARY:Free Theatre Tour at The Jackson Theatre
DESCRIPTION:The Jackson Theatre originally opened in 1945 and closed in the early 1960’s. It has now been fully restored in the heart of historic downtown. Serving as a vibrant hub for the arts\, the Jackson Theatre now operates as a music venue\, movie theater\, and community rental venue bringing entertainment and culture to the community once again. \nLearn about the rich history of our building through a presentation\, short film and self guided tour.  \nTour is free and last approximately 60 minutes
URL:https://jonesborough.com/event/free-theatre-tour-at-the-jackson-theatre-3/
LOCATION:Jackson Theatre\, 121 W Main St\, Jonesborough\, TN\, United States
END:VEVENT
BEGIN:VEVENT
DTSTART;TZID=America/New_York:20260328T110000
DTEND;TZID=America/New_York:20260328T150000
DTSTAMP:20260424T232541
CREATED:20260321T040031Z
LAST-MODIFIED:20260328T050028Z
UID:46397-1774695600-1774710000@jonesborough.com
SUMMARY:Easter Pop-Up
DESCRIPTION:Easter Pop-Up Shop at Mill Spring Makers Market on March 28th from 11 a.m.-3 p.m.  \nJoin us for our 3rd Annual Easter Pop-Up where you’ll find chocolate bunnies\, plush animas and more to fill those Easter baskets. Junkyard Chocolates will have a variety of handmade chocolates including bunnies and chicks\, gaming consoles\, magic wands and more. And you’ll also find the cutest crocheted woodland animals\, dolls and all the Easter Animals by Wilma & Lottie all set-up with so much to offer.  \nWe’ll also have a variety of Easter Baskets and grass included with your purchase so you can build your own basket. And don’t forget that we have great basket stuffers including books\, art supplies\, and more throughout the shop. Follow us on Facebook or Instagram for more information.
URL:https://jonesborough.com/event/easter-pop-up/
LOCATION:Mill Spring Makers Market\, 200 E Main St\, Jonesborough\, TN\, United States
END:VEVENT
BEGIN:VEVENT
DTSTART;TZID=America/New_York:20260328T110000
DTEND;TZID=America/New_York:20260328T150000
DTSTAMP:20260424T232541
CREATED:20260228T144724Z
LAST-MODIFIED:20260328T151712Z
UID:46199-1774695600-1774710000@jonesborough.com
SUMMARY:Easter Eggstravaganza
DESCRIPTION:Event Link: https://jonesborough.com/easter
URL:https://jonesborough.com/event/easter-eggstravaganza-9/
LOCATION:International Storytelling Center\, 100 W Main St\, Jonesborough\, TN\, United States
END:VEVENT
BEGIN:VEVENT
DTSTART;TZID=America/New_York:20260328T093000
DTEND;TZID=America/New_York:20260328T150000
DTSTAMP:20260424T232541
CREATED:20260319T040009Z
LAST-MODIFIED:20260328T050027Z
UID:46377-1774690200-1774710000@jonesborough.com
SUMMARY:Jonesborough Doll Show
DESCRIPTION:Doll Show is coming up! \nSaturday\, March 28\, 2026 \n9:30-3:00 \nVisitor’s Center \n117 Boone Street \nJonesborough\, TN 37659 \nInfo:423-753-0022
URL:https://jonesborough.com/event/jonesborough-doll-show/
LOCATION:Historic Jonesborough Visitors Center\, 117 Boone St\, Jonesborough\, TN\, United States
END:VEVENT
END:VCALENDAR