BEGIN:VCALENDAR
VERSION:2.0
PRODID:-//Town of Jonesborough - ECPv6.10.1.1//NONSGML v1.0//EN
CALSCALE:GREGORIAN
METHOD:PUBLISH
X-ORIGINAL-URL:https://jonesborough.com
X-WR-CALDESC:Events for Town of Jonesborough
REFRESH-INTERVAL;VALUE=DURATION:PT1H
X-Robots-Tag:noindex
X-PUBLISHED-TTL:PT1H
BEGIN:VTIMEZONE
TZID:America/New_York
BEGIN:DAYLIGHT
TZOFFSETFROM:-0500
TZOFFSETTO:-0400
TZNAME:EDT
DTSTART:20240310T070000
END:DAYLIGHT
BEGIN:STANDARD
TZOFFSETFROM:-0400
TZOFFSETTO:-0500
TZNAME:EST
DTSTART:20241103T060000
END:STANDARD
END:VTIMEZONE
BEGIN:VEVENT
DTSTART;TZID=America/New_York:20241026T080000
DTEND;TZID=America/New_York:20241026T120000
DTSTAMP:20260420T115225
CREATED:20240728T170037Z
LAST-MODIFIED:20241025T194504Z
UID:41015-1729929600-1729944000@jonesborough.com
SUMMARY:Jonesborough Farmers Market
DESCRIPTION:
URL:https://jonesborough.com/event/jonesborough-farmers-market-161/
LOCATION:TN
END:VEVENT
BEGIN:VEVENT
DTSTART;TZID=America/New_York:20241026T130000
DTEND;TZID=America/New_York:20241026T140000
DTSTAMP:20260420T115225
CREATED:20240728T200022Z
LAST-MODIFIED:20241025T234520Z
UID:41020-1729947600-1729951200@jonesborough.com
SUMMARY:Historic Jonesborough Strolling Tour
DESCRIPTION:Historic Jonesborough Town Tours return on Saturdays starting onSaturday\, March 16. Town Tours are available every Saturday at 1 p.m. Ticketsare $6. The tour leaves from the Chester Inn and costumed guides share thehistory of Tennessee’s Oldest Town and the people who called it home.
URL:https://jonesborough.com/event/historic-jonesborough-strolling-tour-33/
LOCATION:116 W Main St\, Jonesborough\, TN\, United States
END:VEVENT
BEGIN:VEVENT
DTSTART;TZID=America/New_York:20241026T140000
DTEND;TZID=America/New_York:20241026T160000
DTSTAMP:20260420T115225
CREATED:20240728T154549Z
LAST-MODIFIED:20241026T184509Z
UID:41010-1729951200-1729958400@jonesborough.com
SUMMARY:WAIT UNTIL DARK
DESCRIPTION:In 1944 Greenwich Village\, Susan Hendrix\, a blind yet capable woman\, is imperiled by a trio of men in her own apartment. As the climax builds\, Susan discovers that her blindness just might be the key to her escape\, but she and her tormentors must wait until dark to play out this classic thriller’s chilling conclusion. (Dramatists Play Service\, Inc)
URL:https://jonesborough.com/event/wait-until-dark-7/
LOCATION:Jonesborough Repertory Theatre\, 125 W Main St\, Jonesborough\, TN\, United States
END:VEVENT
BEGIN:VEVENT
DTSTART;TZID=America/New_York:20241026T190000
DTEND;TZID=America/New_York:20241026T223000
DTSTAMP:20260420T115225
CREATED:20240728T183132Z
LAST-MODIFIED:20241027T003021Z
UID:41018-1729969200-1729981800@jonesborough.com
SUMMARY:Contra Dance
DESCRIPTION:Contra dance 2nd and 4th Saturday each month at Jonesborough Visitor Center\, 117 Boone St \n– Cost: $12 Adults\, $8 Students\, $30 Families \n– Cash or Venmo \n– Donations to help cover expenses appreciated \n– Come as you are\, no partner needed \n– Short newcomer lesson starts promptly at 7pm \n– Dance starts at 7:30pm \n– Friends\, families\, and children welcome
URL:https://jonesborough.com/event/contra-dance-36/
LOCATION:Jonesborough Visitors Center
END:VEVENT
BEGIN:VEVENT
DTSTART;TZID=America/New_York:20241026T193000
DTEND;TZID=America/New_York:20241026T213000
DTSTAMP:20260420T115225
CREATED:20240728T154550Z
LAST-MODIFIED:20241026T184509Z
UID:41011-1729971000-1729978200@jonesborough.com
SUMMARY:WAIT UNTIL DARK
DESCRIPTION:In 1944 Greenwich Village\, Susan Hendrix\, a blind yet capable woman\, is imperiled by a trio of men in her own apartment. As the climax builds\, Susan discovers that her blindness just might be the key to her escape\, but she and her tormentors must wait until dark to play out this classic thriller’s chilling conclusion. (Dramatists Play Service\, Inc)
URL:https://jonesborough.com/event/wait-until-dark-8/
LOCATION:Jonesborough Repertory Theatre\, 125 W Main St\, Jonesborough\, TN\, United States
END:VEVENT
BEGIN:VEVENT
DTSTART;TZID=America/New_York:20241026T200000
DTEND;TZID=America/New_York:20241026T220000
DTSTAMP:20260420T115225
CREATED:20240921T190118Z
LAST-MODIFIED:20241026T191507Z
UID:41480-1729972800-1729980000@jonesborough.com
SUMMARY:Brews & Boos
DESCRIPTION:
URL:https://jonesborough.com/event/brews-boos-6/
LOCATION:TN
END:VEVENT
END:VCALENDAR