BEGIN:VCALENDAR
VERSION:2.0
PRODID:-//Town of Jonesborough - ECPv6.10.1.1//NONSGML v1.0//EN
CALSCALE:GREGORIAN
METHOD:PUBLISH
X-WR-CALNAME:Town of Jonesborough
X-ORIGINAL-URL:https://jonesborough.com
X-WR-CALDESC:Events for Town of Jonesborough
REFRESH-INTERVAL;VALUE=DURATION:PT1H
X-Robots-Tag:noindex
X-PUBLISHED-TTL:PT1H
BEGIN:VTIMEZONE
TZID:America/New_York
BEGIN:DAYLIGHT
TZOFFSETFROM:-0500
TZOFFSETTO:-0400
TZNAME:EDT
DTSTART:20240310T070000
END:DAYLIGHT
BEGIN:STANDARD
TZOFFSETFROM:-0400
TZOFFSETTO:-0500
TZNAME:EST
DTSTART:20241103T060000
END:STANDARD
END:VTIMEZONE
BEGIN:VEVENT
DTSTART;TZID=America/New_York:20241011T183000
DTEND;TZID=America/New_York:20241011T200000
DTSTAMP:20260420T114939
CREATED:20241003T194506Z
LAST-MODIFIED:20241011T203031Z
UID:41583-1728671400-1728676800@jonesborough.com
SUMMARY:A Spot on the Hill
DESCRIPTION:This October\, the McKinney Center is proud to present A Spot on the Hill\, the original\, research-based play all about the inhabitants of the Old Jonesborough Cemetery. Created by Anne G’Fellers-Mason while she was with the Heritage Alliance\, this edition of Jonesborough’s cemetery play features new characters. New stories include Revolutionary War veteran Robert Patton\, Jonesborough’s first merchant David Deaderick\, missionary Sarah Gibson\, and Sarah Blair who grew up with her future husband George when they were both enslaved by the Blair family. They were later emancipated and forged a life of their own in town. Guests are encouraged to bring blankets and chairs to sit on. Seats are not provided at the cemetery. Come and listen to real stories of real lives among real tombstones.Performances for A Spot on the Hill will take place at 6:30 p.m. on October 11th\, 12th\, 18th\, and 19th. There will be a 2:00 p.m. matinee performance on October 12th at the McKinney Center (103 Franklin Avenue) and a 2:00 pm matinee in the cemetery on October 19th. At the outdoor matinee\, there will be ASL interpretation provided by BridgesEAST. The indoor performance on October 12th is ADA accessible. Tickets are limited\, and sell out fast\, so make sure you buy yours today. Tickets are $10.00.Audience members should arrive 15 minutes prior to show time. Parking is available at the First Baptist Church and downtown. It is a short walk up East Main Street to the cemetery from the First Baptist Church lot. A golf cart courtesy shuttle will be available for guests who need it. This program is not suggested for children less than 10 years of age. In case of inclement weather\, the show will be relocated to an indoor location.To purchase tickets\, please call the Jonesborough Visitor’s Center at 423.753.1010. Tickets can also be purchased online at jonesborough.com/tickets.About the McKinney Center at Booker T. Washington: The mission of the McKinney Center at Booker T. Washington is to provide a comprehensive program through Jonesborough’s Mary B. Martin Program for the Arts which teaches various art skills to all participants through a quality program of instruction open to all segments of Jonesborough’s population. In addition\, a primary mission of the Center is to enhance minority participation in the planning and implementation in all activities in Jonesborough while specifically celebrating the contribution of the African-American community in the growth and development of the Town. The activities of the McKinney Center are designed to enhance the quality of life of all Jonesborough residents.
URL:https://jonesborough.com/event/a-spot-on-the-hill-27/
LOCATION:Cemetary Lane\, 201 Cemetary Ln\, Jonesborough\, TN\, United States
END:VEVENT
END:VCALENDAR