BEGIN:VCALENDAR
VERSION:2.0
PRODID:-//Town of Jonesborough - ECPv6.10.1.1//NONSGML v1.0//EN
CALSCALE:GREGORIAN
METHOD:PUBLISH
X-WR-CALNAME:Town of Jonesborough
X-ORIGINAL-URL:https://jonesborough.com
X-WR-CALDESC:Events for Town of Jonesborough
REFRESH-INTERVAL;VALUE=DURATION:PT1H
X-Robots-Tag:noindex
X-PUBLISHED-TTL:PT1H
BEGIN:VTIMEZONE
TZID:America/New_York
BEGIN:DAYLIGHT
TZOFFSETFROM:-0500
TZOFFSETTO:-0400
TZNAME:EDT
DTSTART:20230312T070000
END:DAYLIGHT
BEGIN:STANDARD
TZOFFSETFROM:-0400
TZOFFSETTO:-0500
TZNAME:EST
DTSTART:20231105T060000
END:STANDARD
END:VTIMEZONE
BEGIN:VEVENT
DTSTART;TZID=America/New_York:20230511T180000
DTEND;TZID=America/New_York:20230511T184500
DTSTAMP:20260420T054840
CREATED:20230511T161627Z
LAST-MODIFIED:20230511T161627Z
UID:36334-1683828000-1683830700@jonesborough.com
SUMMARY:Fitness in the Park
DESCRIPTION:
URL:https://jonesborough.com/event/fitness-in-the-park/
LOCATION:TN
END:VEVENT
END:VCALENDAR